BEGIN:VCALENDAR
VERSION:2.0
PRODID:-//Taekwon-Do Sch&ouml;nbrunn - ECPv6.15.20//NONSGML v1.0//EN
CALSCALE:GREGORIAN
METHOD:PUBLISH
X-WR-CALNAME:Taekwon-Do Sch&ouml;nbrunn
X-ORIGINAL-URL:https://taekwondo-schoenbrunn.de
X-WR-CALDESC:Veranstaltungen für Taekwon-Do Sch&ouml;nbrunn
REFRESH-INTERVAL;VALUE=DURATION:PT1H
X-Robots-Tag:noindex
X-PUBLISHED-TTL:PT1H
BEGIN:VTIMEZONE
TZID:UTC
BEGIN:STANDARD
TZOFFSETFROM:+0000
TZOFFSETTO:+0000
TZNAME:UTC
DTSTART:20240101T000000
END:STANDARD
END:VTIMEZONE
BEGIN:VEVENT
DTSTART;TZID=UTC:20251018T110000
DTEND;TZID=UTC:20251018T170000
DTSTAMP:20260422T042042
CREATED:20250928T161112Z
LAST-MODIFIED:20250928T161112Z
UID:316-1760785200-1760806800@taekwondo-schoenbrunn.de
SUMMARY:Schlachtschüssel des SV Frankonia Schönbrunn
DESCRIPTION:
URL:https://taekwondo-schoenbrunn.de/event/schlachtschuessel-des-sv-frankonia-schoenbrunn/
LOCATION:Sportplatz in Schönbrunn\, Dammweg 11\, Schönbrunn im Steigerwald\, Bayern\, 96185\, Germany
END:VEVENT
END:VCALENDAR