BEGIN:VCALENDAR
VERSION:2.0
PRODID:-//Taekwon-Do Sch&ouml;nbrunn - ECPv6.15.20//NONSGML v1.0//EN
CALSCALE:GREGORIAN
METHOD:PUBLISH
X-ORIGINAL-URL:https://taekwondo-schoenbrunn.de
X-WR-CALDESC:Veranstaltungen für Taekwon-Do Sch&ouml;nbrunn
REFRESH-INTERVAL;VALUE=DURATION:PT1H
X-Robots-Tag:noindex
X-PUBLISHED-TTL:PT1H
BEGIN:VTIMEZONE
TZID:UTC
BEGIN:STANDARD
TZOFFSETFROM:+0000
TZOFFSETTO:+0000
TZNAME:UTC
DTSTART:20240101T000000
END:STANDARD
END:VTIMEZONE
BEGIN:VTIMEZONE
TZID:Europe/Helsinki
BEGIN:DAYLIGHT
TZOFFSETFROM:+0200
TZOFFSETTO:+0300
TZNAME:EEST
DTSTART:20240331T010000
END:DAYLIGHT
BEGIN:STANDARD
TZOFFSETFROM:+0300
TZOFFSETTO:+0200
TZNAME:EET
DTSTART:20241027T010000
END:STANDARD
BEGIN:DAYLIGHT
TZOFFSETFROM:+0200
TZOFFSETTO:+0300
TZNAME:EEST
DTSTART:20250330T010000
END:DAYLIGHT
BEGIN:STANDARD
TZOFFSETFROM:+0300
TZOFFSETTO:+0200
TZNAME:EET
DTSTART:20251026T010000
END:STANDARD
BEGIN:DAYLIGHT
TZOFFSETFROM:+0200
TZOFFSETTO:+0300
TZNAME:EEST
DTSTART:20260329T010000
END:DAYLIGHT
BEGIN:STANDARD
TZOFFSETFROM:+0300
TZOFFSETTO:+0200
TZNAME:EET
DTSTART:20261025T010000
END:STANDARD
END:VTIMEZONE
BEGIN:VEVENT
DTSTART;TZID=UTC:20251020T193000
DTEND;TZID=UTC:20251020T210000
DTSTAMP:20260422T042222
CREATED:20250928T161314Z
LAST-MODIFIED:20250928T161314Z
UID:320-1760988600-1760994000@taekwondo-schoenbrunn.de
SUMMARY:Erwachsenentraining
DESCRIPTION:
URL:https://taekwondo-schoenbrunn.de/event/erwachsenentraining-6/
LOCATION:Schulturnhalle Schönbrunn
END:VEVENT
BEGIN:VEVENT
DTSTART;TZID=Europe/Helsinki:20251020T211500
DTEND;TZID=Europe/Helsinki:20251020T223000
DTSTAMP:20260422T042222
CREATED:20251011T164142Z
LAST-MODIFIED:20251011T164142Z
UID:394-1760994900-1760999400@taekwondo-schoenbrunn.de
SUMMARY:TKD Stammtisch (Lips)
DESCRIPTION:Wir wollen uns nach dem Training beim Lips auf ein Bier/Erfrischungsgetränk treffen
URL:https://taekwondo-schoenbrunn.de/event/tkd-stammtisch-lips/
LOCATION:Wernsdörfer
END:VEVENT
END:VCALENDAR