BEGIN:VCALENDAR
VERSION:2.0
PRODID:-//Taekwon-Do Sch&ouml;nbrunn - ECPv6.15.20//NONSGML v1.0//EN
CALSCALE:GREGORIAN
METHOD:PUBLISH
X-WR-CALNAME:Taekwon-Do Sch&ouml;nbrunn
X-ORIGINAL-URL:https://taekwondo-schoenbrunn.de
X-WR-CALDESC:Veranstaltungen für Taekwon-Do Sch&ouml;nbrunn
REFRESH-INTERVAL;VALUE=DURATION:PT1H
X-Robots-Tag:noindex
X-PUBLISHED-TTL:PT1H
BEGIN:VTIMEZONE
TZID:Europe/Helsinki
BEGIN:DAYLIGHT
TZOFFSETFROM:+0200
TZOFFSETTO:+0300
TZNAME:EEST
DTSTART:20240331T010000
END:DAYLIGHT
BEGIN:STANDARD
TZOFFSETFROM:+0300
TZOFFSETTO:+0200
TZNAME:EET
DTSTART:20241027T010000
END:STANDARD
BEGIN:DAYLIGHT
TZOFFSETFROM:+0200
TZOFFSETTO:+0300
TZNAME:EEST
DTSTART:20250330T010000
END:DAYLIGHT
BEGIN:STANDARD
TZOFFSETFROM:+0300
TZOFFSETTO:+0200
TZNAME:EET
DTSTART:20251026T010000
END:STANDARD
BEGIN:DAYLIGHT
TZOFFSETFROM:+0200
TZOFFSETTO:+0300
TZNAME:EEST
DTSTART:20260329T010000
END:DAYLIGHT
BEGIN:STANDARD
TZOFFSETFROM:+0300
TZOFFSETTO:+0200
TZNAME:EET
DTSTART:20261025T010000
END:STANDARD
END:VTIMEZONE
BEGIN:VEVENT
DTSTART;TZID=Europe/Helsinki:20251127T180000
DTEND;TZID=Europe/Helsinki:20251127T210000
DTSTAMP:20260422T023223
CREATED:20251013T163919Z
LAST-MODIFIED:20251013T163919Z
UID:397-1764266400-1764277200@taekwondo-schoenbrunn.de
SUMMARY:Kup-Prüfung Zeilitzheim
DESCRIPTION:Wer wissen möchte\, wie eine Gurtprüfung abläuft\, hat die Möglichkeit mit nach Zeilitzheim zu fahren und als Zuschauer einer Prüfung mitzuerleben.
URL:https://taekwondo-schoenbrunn.de/event/kup-pruefung-zeilitzheim/
LOCATION:Zeilitzheim
END:VEVENT
END:VCALENDAR