BEGIN:VCALENDAR
VERSION:2.0
PRODID:-//Taekwon-Do Sch&ouml;nbrunn - ECPv6.15.20//NONSGML v1.0//EN
CALSCALE:GREGORIAN
METHOD:PUBLISH
X-WR-CALNAME:Taekwon-Do Sch&ouml;nbrunn
X-ORIGINAL-URL:https://taekwondo-schoenbrunn.de
X-WR-CALDESC:Veranstaltungen für Taekwon-Do Sch&ouml;nbrunn
REFRESH-INTERVAL;VALUE=DURATION:PT1H
X-Robots-Tag:noindex
X-PUBLISHED-TTL:PT1H
BEGIN:VTIMEZONE
TZID:Europe/Paris
BEGIN:DAYLIGHT
TZOFFSETFROM:+0100
TZOFFSETTO:+0200
TZNAME:CEST
DTSTART:20250330T010000
END:DAYLIGHT
BEGIN:STANDARD
TZOFFSETFROM:+0200
TZOFFSETTO:+0100
TZNAME:CET
DTSTART:20251026T010000
END:STANDARD
BEGIN:DAYLIGHT
TZOFFSETFROM:+0100
TZOFFSETTO:+0200
TZNAME:CEST
DTSTART:20260329T010000
END:DAYLIGHT
BEGIN:STANDARD
TZOFFSETFROM:+0200
TZOFFSETTO:+0100
TZNAME:CET
DTSTART:20261025T010000
END:STANDARD
BEGIN:DAYLIGHT
TZOFFSETFROM:+0100
TZOFFSETTO:+0200
TZNAME:CEST
DTSTART:20270328T010000
END:DAYLIGHT
BEGIN:STANDARD
TZOFFSETFROM:+0200
TZOFFSETTO:+0100
TZNAME:CET
DTSTART:20271031T010000
END:STANDARD
END:VTIMEZONE
BEGIN:VEVENT
DTSTART;TZID=Europe/Paris:20260220T190000
DTEND;TZID=Europe/Paris:20260220T210000
DTSTAMP:20260421T214441
CREATED:20251214T083004Z
LAST-MODIFIED:20260207T204246Z
UID:500-1771614000-1771621200@taekwondo-schoenbrunn.de
SUMMARY:Schwarzgurttraining Höchberg -> Kein Training in Schönbrunn!
DESCRIPTION:
URL:https://taekwondo-schoenbrunn.de/event/erwachsenentraining-32/
LOCATION:TG Höchberg
END:VEVENT
END:VCALENDAR