BEGIN:VCALENDAR
VERSION:2.0
PRODID:-//Taekwon-Do Sch&ouml;nbrunn - ECPv6.15.20//NONSGML v1.0//EN
CALSCALE:GREGORIAN
METHOD:PUBLISH
X-ORIGINAL-URL:https://taekwondo-schoenbrunn.de
X-WR-CALDESC:Veranstaltungen für Taekwon-Do Sch&ouml;nbrunn
REFRESH-INTERVAL;VALUE=DURATION:PT1H
X-Robots-Tag:noindex
X-PUBLISHED-TTL:PT1H
BEGIN:VTIMEZONE
TZID:Europe/Helsinki
BEGIN:DAYLIGHT
TZOFFSETFROM:+0200
TZOFFSETTO:+0300
TZNAME:EEST
DTSTART:20250330T010000
END:DAYLIGHT
BEGIN:STANDARD
TZOFFSETFROM:+0300
TZOFFSETTO:+0200
TZNAME:EET
DTSTART:20251026T010000
END:STANDARD
BEGIN:DAYLIGHT
TZOFFSETFROM:+0200
TZOFFSETTO:+0300
TZNAME:EEST
DTSTART:20260329T010000
END:DAYLIGHT
BEGIN:STANDARD
TZOFFSETFROM:+0300
TZOFFSETTO:+0200
TZNAME:EET
DTSTART:20261025T010000
END:STANDARD
BEGIN:DAYLIGHT
TZOFFSETFROM:+0200
TZOFFSETTO:+0300
TZNAME:EEST
DTSTART:20270328T010000
END:DAYLIGHT
BEGIN:STANDARD
TZOFFSETFROM:+0300
TZOFFSETTO:+0200
TZNAME:EET
DTSTART:20271031T010000
END:STANDARD
END:VTIMEZONE
BEGIN:VTIMEZONE
TZID:Europe/Paris
BEGIN:DAYLIGHT
TZOFFSETFROM:+0100
TZOFFSETTO:+0200
TZNAME:CEST
DTSTART:20250330T010000
END:DAYLIGHT
BEGIN:STANDARD
TZOFFSETFROM:+0200
TZOFFSETTO:+0100
TZNAME:CET
DTSTART:20251026T010000
END:STANDARD
BEGIN:DAYLIGHT
TZOFFSETFROM:+0100
TZOFFSETTO:+0200
TZNAME:CEST
DTSTART:20260329T010000
END:DAYLIGHT
BEGIN:STANDARD
TZOFFSETFROM:+0200
TZOFFSETTO:+0100
TZNAME:CET
DTSTART:20261025T010000
END:STANDARD
BEGIN:DAYLIGHT
TZOFFSETFROM:+0100
TZOFFSETTO:+0200
TZNAME:CEST
DTSTART:20270328T010000
END:DAYLIGHT
BEGIN:STANDARD
TZOFFSETFROM:+0200
TZOFFSETTO:+0100
TZNAME:CET
DTSTART:20271031T010000
END:STANDARD
END:VTIMEZONE
BEGIN:VTIMEZONE
TZID:UTC
BEGIN:STANDARD
TZOFFSETFROM:+0000
TZOFFSETTO:+0000
TZNAME:UTC
DTSTART:20240101T000000
END:STANDARD
END:VTIMEZONE
BEGIN:VEVENT
DTSTART;TZID=Europe/Helsinki:20260413T000000
DTEND;TZID=Europe/Helsinki:20260420T235959
DTSTAMP:20260421T150817
CREATED:20251228T085138Z
LAST-MODIFIED:20251228T085138Z
UID:528-1776038400-1776729599@taekwondo-schoenbrunn.de
SUMMARY:Kein Training!
DESCRIPTION:
URL:https://taekwondo-schoenbrunn.de/event/kein-training-2/
END:VEVENT
BEGIN:VEVENT
DTSTART;TZID=Europe/Helsinki:20260410T193000
DTEND;TZID=Europe/Helsinki:20260410T210000
DTSTAMP:20260421T150817
CREATED:20260322T190515Z
LAST-MODIFIED:20260322T190515Z
UID:622-1775849400-1775854800@taekwondo-schoenbrunn.de
SUMMARY:Training
DESCRIPTION:
URL:https://taekwondo-schoenbrunn.de/event/training-8/
LOCATION:Schulturnhalle Schönbrunn
END:VEVENT
BEGIN:VEVENT
DTSTART;TZID=Europe/Helsinki:20260403T000000
DTEND;TZID=Europe/Helsinki:20260406T235959
DTSTAMP:20260421T150817
CREATED:20251228T085621Z
LAST-MODIFIED:20260322T190703Z
UID:533-1775174400-1775519999@taekwondo-schoenbrunn.de
SUMMARY:Kein Training - Ostern
DESCRIPTION:
URL:https://taekwondo-schoenbrunn.de/event/kein-training-ostern/
END:VEVENT
BEGIN:VEVENT
DTSTART;TZID=Europe/Helsinki:20260330T193000
DTEND;TZID=Europe/Helsinki:20260330T210000
DTSTAMP:20260421T150817
CREATED:20251228T085319Z
LAST-MODIFIED:20251228T085518Z
UID:531-1774899000-1774904400@taekwondo-schoenbrunn.de
SUMMARY:Erwachsenentraining
DESCRIPTION:
URL:https://taekwondo-schoenbrunn.de/event/erwachsenentraining-42/
LOCATION:Schulturnhalle Schönbrunn
END:VEVENT
BEGIN:VEVENT
DTSTART;TZID=Europe/Paris:20260328T160000
DTEND;TZID=Europe/Paris:20260328T190000
DTSTAMP:20260421T150817
CREATED:20251214T083838Z
LAST-MODIFIED:20260315T093553Z
UID:518-1774713600-1774724400@taekwondo-schoenbrunn.de
SUMMARY:KUP Prüfung!
DESCRIPTION:Aushang Prüfung
URL:https://taekwondo-schoenbrunn.de/event/kup-pruefung/
LOCATION:Schulturnhalle Schönbrunn
END:VEVENT
BEGIN:VEVENT
DTSTART;TZID=Europe/Paris:20260327T193000
DTEND;TZID=Europe/Paris:20260327T210000
DTSTAMP:20260421T150817
CREATED:20251228T084621Z
LAST-MODIFIED:20260207T205524Z
UID:525-1774639800-1774645200@taekwondo-schoenbrunn.de
SUMMARY:Erwachsentraining
DESCRIPTION:
URL:https://taekwondo-schoenbrunn.de/event/erwachsentraining/
LOCATION:Schulturnhalle Schönbrunn
END:VEVENT
BEGIN:VEVENT
DTSTART;TZID=Europe/Paris:20260323T193000
DTEND;TZID=Europe/Paris:20260323T210000
DTSTAMP:20260421T150817
CREATED:20251228T084533Z
LAST-MODIFIED:20260207T205447Z
UID:523-1774294200-1774299600@taekwondo-schoenbrunn.de
SUMMARY:Erwachsenentraining
DESCRIPTION:
URL:https://taekwondo-schoenbrunn.de/event/erwachsenentraining-41/
LOCATION:Schulturnhalle Schönbrunn
END:VEVENT
BEGIN:VEVENT
DTSTART;TZID=Europe/Paris:20260320T000000
DTEND;TZID=Europe/Paris:20260320T235959
DTSTAMP:20260421T150817
CREATED:20251214T083654Z
LAST-MODIFIED:20260207T205407Z
UID:516-1773964800-1774051199@taekwondo-schoenbrunn.de
SUMMARY:Kein Training!
DESCRIPTION:
URL:https://taekwondo-schoenbrunn.de/event/erwachsenentraining-40/
LOCATION:Schulturnhalle Schönbrunn
END:VEVENT
BEGIN:VEVENT
DTSTART;TZID=Europe/Paris:20260316T193000
DTEND;TZID=Europe/Paris:20260316T210000
DTSTAMP:20260421T150817
CREATED:20251214T083543Z
LAST-MODIFIED:20260207T205258Z
UID:514-1773689400-1773694800@taekwondo-schoenbrunn.de
SUMMARY:Erwachsenentraining
DESCRIPTION:
URL:https://taekwondo-schoenbrunn.de/event/erwachsenentraining-39/
LOCATION:Schulturnhalle Schönbrunn
END:VEVENT
BEGIN:VEVENT
DTSTART;TZID=Europe/Paris:20260313T193000
DTEND;TZID=Europe/Paris:20260313T210000
DTSTAMP:20260421T150817
CREATED:20251214T083432Z
LAST-MODIFIED:20260207T205223Z
UID:512-1773430200-1773435600@taekwondo-schoenbrunn.de
SUMMARY:Erwachsenentraining
DESCRIPTION:
URL:https://taekwondo-schoenbrunn.de/event/erwachsenentraining-38/
LOCATION:Schulturnhalle Schönbrunn
END:VEVENT
BEGIN:VEVENT
DTSTART;TZID=Europe/Paris:20260309T193000
DTEND;TZID=Europe/Paris:20260309T210000
DTSTAMP:20260421T150817
CREATED:20251214T083359Z
LAST-MODIFIED:20260207T205142Z
UID:510-1773084600-1773090000@taekwondo-schoenbrunn.de
SUMMARY:Erwachsenentraining
DESCRIPTION:
URL:https://taekwondo-schoenbrunn.de/event/erwachsenentraining-37/
LOCATION:Schulturnhalle Schönbrunn
END:VEVENT
BEGIN:VEVENT
DTSTART;TZID=Europe/Paris:20260306T193000
DTEND;TZID=Europe/Paris:20260306T210000
DTSTAMP:20260421T150817
CREATED:20251214T083253Z
LAST-MODIFIED:20260207T205051Z
UID:508-1772825400-1772830800@taekwondo-schoenbrunn.de
SUMMARY:Erwachsenentraining
DESCRIPTION:
URL:https://taekwondo-schoenbrunn.de/event/erwachsenentraining-36/
LOCATION:Schulturnhalle Schönbrunn
END:VEVENT
BEGIN:VEVENT
DTSTART;TZID=Europe/Paris:20260302T193000
DTEND;TZID=Europe/Paris:20260302T210000
DTSTAMP:20260421T150817
CREATED:20251214T083200Z
LAST-MODIFIED:20260207T204946Z
UID:506-1772479800-1772485200@taekwondo-schoenbrunn.de
SUMMARY:Erwachsenentraining
DESCRIPTION:
URL:https://taekwondo-schoenbrunn.de/event/erwachsenentraining-35/
LOCATION:Schulturnhalle Schönbrunn
END:VEVENT
BEGIN:VEVENT
DTSTART;TZID=Europe/Paris:20260227T193000
DTEND;TZID=Europe/Paris:20260227T210000
DTSTAMP:20260421T150817
CREATED:20251214T083118Z
LAST-MODIFIED:20260207T204853Z
UID:504-1772220600-1772226000@taekwondo-schoenbrunn.de
SUMMARY:Erwachsenentraining
DESCRIPTION:
URL:https://taekwondo-schoenbrunn.de/event/erwachsenentraining-34/
LOCATION:Schulturnhalle Schönbrunn
END:VEVENT
BEGIN:VEVENT
DTSTART;TZID=Europe/Paris:20260223T193000
DTEND;TZID=Europe/Paris:20260223T210000
DTSTAMP:20260421T150817
CREATED:20251214T083042Z
LAST-MODIFIED:20260207T204752Z
UID:502-1771875000-1771880400@taekwondo-schoenbrunn.de
SUMMARY:Erwachsenentraining
DESCRIPTION:
URL:https://taekwondo-schoenbrunn.de/event/erwachsenentraining-33/
LOCATION:Schulturnhalle Schönbrunn
END:VEVENT
BEGIN:VEVENT
DTSTART;TZID=Europe/Paris:20260220T190000
DTEND;TZID=Europe/Paris:20260220T210000
DTSTAMP:20260421T150817
CREATED:20251214T083004Z
LAST-MODIFIED:20260207T204246Z
UID:500-1771614000-1771621200@taekwondo-schoenbrunn.de
SUMMARY:Schwarzgurttraining Höchberg -> Kein Training in Schönbrunn!
DESCRIPTION:
URL:https://taekwondo-schoenbrunn.de/event/erwachsenentraining-32/
LOCATION:TG Höchberg
END:VEVENT
BEGIN:VEVENT
DTSTART;TZID=Europe/Paris:20260216T193000
DTEND;TZID=Europe/Paris:20260216T210000
DTSTAMP:20260421T150817
CREATED:20251214T082914Z
LAST-MODIFIED:20260207T204659Z
UID:498-1771270200-1771275600@taekwondo-schoenbrunn.de
SUMMARY:Erwachsenentraining
DESCRIPTION:
URL:https://taekwondo-schoenbrunn.de/event/erwachsenentraining-31/
LOCATION:Schulturnhalle Schönbrunn
END:VEVENT
BEGIN:VEVENT
DTSTART;TZID=Europe/Paris:20260213T190000
DTEND;TZID=Europe/Paris:20260213T203000
DTSTAMP:20260421T150817
CREATED:20251214T082818Z
LAST-MODIFIED:20260207T204605Z
UID:496-1771009200-1771014600@taekwondo-schoenbrunn.de
SUMMARY:Erwachsenentraining
DESCRIPTION:
URL:https://taekwondo-schoenbrunn.de/event/schwarzgurttraining-hoechberg-ob-training-stattfindet-muss-noch-entschieden-werden/
END:VEVENT
BEGIN:VEVENT
DTSTART;TZID=Europe/Paris:20260209T193000
DTEND;TZID=Europe/Paris:20260209T210000
DTSTAMP:20260421T150817
CREATED:20251214T082603Z
LAST-MODIFIED:20260207T204429Z
UID:494-1770665400-1770670800@taekwondo-schoenbrunn.de
SUMMARY:Erwachsenentraining
DESCRIPTION:
URL:https://taekwondo-schoenbrunn.de/event/erwachsenentraining-30/
LOCATION:Schulturnhalle Schönbrunn
END:VEVENT
BEGIN:VEVENT
DTSTART;TZID=Europe/Helsinki:20260206T193000
DTEND;TZID=Europe/Helsinki:20260206T210000
DTSTAMP:20260421T150817
CREATED:20251214T082536Z
LAST-MODIFIED:20251214T082536Z
UID:492-1770406200-1770411600@taekwondo-schoenbrunn.de
SUMMARY:Erwachsenentraining
DESCRIPTION:
URL:https://taekwondo-schoenbrunn.de/event/erwachsenentraining-29/
LOCATION:Schulturnhalle Schönbrunn
END:VEVENT
BEGIN:VEVENT
DTSTART;TZID=Europe/Helsinki:20260202T193000
DTEND;TZID=Europe/Helsinki:20260202T210000
DTSTAMP:20260421T150817
CREATED:20251214T082420Z
LAST-MODIFIED:20251214T082420Z
UID:490-1770060600-1770066000@taekwondo-schoenbrunn.de
SUMMARY:Erwachsenentraining
DESCRIPTION:
URL:https://taekwondo-schoenbrunn.de/event/erwachsenentraining-28/
LOCATION:Schulturnhalle Schönbrunn
END:VEVENT
BEGIN:VEVENT
DTSTART;TZID=Europe/Helsinki:20260130T193000
DTEND;TZID=Europe/Helsinki:20260130T210000
DTSTAMP:20260421T150817
CREATED:20251105T175349Z
LAST-MODIFIED:20251214T084019Z
UID:419-1769801400-1769806800@taekwondo-schoenbrunn.de
SUMMARY:Erwachsenentraining
DESCRIPTION:
URL:https://taekwondo-schoenbrunn.de/event/erwachsenentraining-27/
LOCATION:Schulturnhalle Schönbrunn
END:VEVENT
BEGIN:VEVENT
DTSTART;TZID=Europe/Helsinki:20260126T193000
DTEND;TZID=Europe/Helsinki:20260126T210000
DTSTAMP:20260421T150817
CREATED:20251105T175316Z
LAST-MODIFIED:20251105T175316Z
UID:417-1769455800-1769461200@taekwondo-schoenbrunn.de
SUMMARY:Erwachsenentraining
DESCRIPTION:
URL:https://taekwondo-schoenbrunn.de/event/erwachsenentraining-26/
LOCATION:Schulturnhalle Schönbrunn
END:VEVENT
BEGIN:VEVENT
DTSTART;TZID=Europe/Helsinki:20260123T000000
DTEND;TZID=Europe/Helsinki:20260123T235959
DTSTAMP:20260421T150817
CREATED:20251105T175240Z
LAST-MODIFIED:20260105T163500Z
UID:415-1769126400-1769212799@taekwondo-schoenbrunn.de
SUMMARY:Kein Training!
DESCRIPTION:
URL:https://taekwondo-schoenbrunn.de/event/erwachsenentraining-25/
LOCATION:Schulturnhalle Schönbrunn
END:VEVENT
BEGIN:VEVENT
DTSTART;TZID=Europe/Helsinki:20260119T193000
DTEND;TZID=Europe/Helsinki:20260119T210000
DTSTAMP:20260421T150817
CREATED:20251105T175141Z
LAST-MODIFIED:20251105T175141Z
UID:413-1768851000-1768856400@taekwondo-schoenbrunn.de
SUMMARY:Erwachsenentraining
DESCRIPTION:
URL:https://taekwondo-schoenbrunn.de/event/erwachsenentraining-23/
LOCATION:Schulturnhalle Schönbrunn
END:VEVENT
BEGIN:VEVENT
DTSTART;TZID=Europe/Helsinki:20260116T193000
DTEND;TZID=Europe/Helsinki:20260116T210000
DTSTAMP:20260421T150817
CREATED:20251105T175108Z
LAST-MODIFIED:20251105T175108Z
UID:411-1768591800-1768597200@taekwondo-schoenbrunn.de
SUMMARY:Erwachsenentraining
DESCRIPTION:
URL:https://taekwondo-schoenbrunn.de/event/erwachsenentraining-21/
LOCATION:Schulturnhalle Schönbrunn
END:VEVENT
BEGIN:VEVENT
DTSTART;TZID=Europe/Helsinki:20260112T193000
DTEND;TZID=Europe/Helsinki:20260112T210000
DTSTAMP:20260421T150817
CREATED:20251105T175029Z
LAST-MODIFIED:20251105T175029Z
UID:409-1768246200-1768251600@taekwondo-schoenbrunn.de
SUMMARY:Erwachsenentraining
DESCRIPTION:
URL:https://taekwondo-schoenbrunn.de/event/erwachsenentraining-18/
LOCATION:Schulturnhalle Schönbrunn
END:VEVENT
BEGIN:VEVENT
DTSTART;TZID=Europe/Helsinki:20260109T193000
DTEND;TZID=Europe/Helsinki:20260109T210000
DTSTAMP:20260421T150817
CREATED:20251105T174937Z
LAST-MODIFIED:20251105T174937Z
UID:407-1767987000-1767992400@taekwondo-schoenbrunn.de
SUMMARY:Erwachsenentraining
DESCRIPTION:
URL:https://taekwondo-schoenbrunn.de/event/erwachsenentraining-10/
LOCATION:Schulturnhalle Schönbrunn
END:VEVENT
BEGIN:VEVENT
DTSTART;TZID=UTC:20251222T000000
DTEND;TZID=UTC:20260106T235959
DTSTAMP:20260421T150817
CREATED:20250928T165249Z
LAST-MODIFIED:20250929T143757Z
UID:367-1766361600-1767743999@taekwondo-schoenbrunn.de
SUMMARY:Weihnachtsferien - Kein Training!!
DESCRIPTION:
URL:https://taekwondo-schoenbrunn.de/event/weihnachtsferien/
END:VEVENT
BEGIN:VEVENT
DTSTART;TZID=UTC:20251219T193000
DTEND;TZID=UTC:20251219T210000
DTSTAMP:20260421T150817
CREATED:20250928T163007Z
LAST-MODIFIED:20250928T163007Z
UID:358-1766172600-1766178000@taekwondo-schoenbrunn.de
SUMMARY:Erwachsenentraining
DESCRIPTION:
URL:https://taekwondo-schoenbrunn.de/event/erwachsenentraining-24/
LOCATION:Schulturnhalle Schönbrunn
END:VEVENT
END:VCALENDAR