BEGIN:VCALENDAR
VERSION:2.0
PRODID:-//Taekwon-Do Sch&ouml;nbrunn - ECPv6.15.20//NONSGML v1.0//EN
CALSCALE:GREGORIAN
METHOD:PUBLISH
X-ORIGINAL-URL:https://taekwondo-schoenbrunn.de
X-WR-CALDESC:Veranstaltungen für Taekwon-Do Sch&ouml;nbrunn
REFRESH-INTERVAL;VALUE=DURATION:PT1H
X-Robots-Tag:noindex
X-PUBLISHED-TTL:PT1H
BEGIN:VTIMEZONE
TZID:UTC
BEGIN:STANDARD
TZOFFSETFROM:+0000
TZOFFSETTO:+0000
TZNAME:UTC
DTSTART:20240101T000000
END:STANDARD
END:VTIMEZONE
BEGIN:VTIMEZONE
TZID:Europe/Helsinki
BEGIN:DAYLIGHT
TZOFFSETFROM:+0200
TZOFFSETTO:+0300
TZNAME:EEST
DTSTART:20240331T010000
END:DAYLIGHT
BEGIN:STANDARD
TZOFFSETFROM:+0300
TZOFFSETTO:+0200
TZNAME:EET
DTSTART:20241027T010000
END:STANDARD
BEGIN:DAYLIGHT
TZOFFSETFROM:+0200
TZOFFSETTO:+0300
TZNAME:EEST
DTSTART:20250330T010000
END:DAYLIGHT
BEGIN:STANDARD
TZOFFSETFROM:+0300
TZOFFSETTO:+0200
TZNAME:EET
DTSTART:20251026T010000
END:STANDARD
BEGIN:DAYLIGHT
TZOFFSETFROM:+0200
TZOFFSETTO:+0300
TZNAME:EEST
DTSTART:20260329T010000
END:DAYLIGHT
BEGIN:STANDARD
TZOFFSETFROM:+0300
TZOFFSETTO:+0200
TZNAME:EET
DTSTART:20261025T010000
END:STANDARD
END:VTIMEZONE
BEGIN:VEVENT
DTSTART;TZID=UTC:20251003T000000
DTEND;TZID=UTC:20251003T235959
DTSTAMP:20260422T041624
CREATED:20250928T165434Z
LAST-MODIFIED:20250929T143834Z
UID:369-1759449600-1759535999@taekwondo-schoenbrunn.de
SUMMARY:Tag der deutschen Einheit - Kein Training
DESCRIPTION:
URL:https://taekwondo-schoenbrunn.de/event/tag-der-deutschen-einheit/
END:VEVENT
BEGIN:VEVENT
DTSTART;TZID=UTC:20251006T193000
DTEND;TZID=UTC:20251006T210000
DTSTAMP:20260422T041624
CREATED:20250928T160950Z
LAST-MODIFIED:20250928T160950Z
UID:312-1759779000-1759784400@taekwondo-schoenbrunn.de
SUMMARY:Erwachsenentraining
DESCRIPTION:
URL:https://taekwondo-schoenbrunn.de/event/erwachsenentraining-3/
LOCATION:Schulturnhalle Schönbrunn
END:VEVENT
BEGIN:VEVENT
DTSTART;TZID=UTC:20251010T000000
DTEND;TZID=UTC:20251010T235959
DTSTAMP:20260422T041624
CREATED:20250928T165935Z
LAST-MODIFIED:20250928T165935Z
UID:371-1760054400-1760140799@taekwondo-schoenbrunn.de
SUMMARY:Kein Training!!!
DESCRIPTION:
URL:https://taekwondo-schoenbrunn.de/event/kein-training/
END:VEVENT
BEGIN:VEVENT
DTSTART;TZID=UTC:20251013T193000
DTEND;TZID=UTC:20251013T210000
DTSTAMP:20260422T041624
CREATED:20250928T161025Z
LAST-MODIFIED:20250928T161025Z
UID:314-1760383800-1760389200@taekwondo-schoenbrunn.de
SUMMARY:Erwachsenentraining
DESCRIPTION:
URL:https://taekwondo-schoenbrunn.de/event/erwachsenentraining-4/
LOCATION:Schulturnhalle Schönbrunn
END:VEVENT
BEGIN:VEVENT
DTSTART;TZID=UTC:20251017T193000
DTEND;TZID=UTC:20251017T210000
DTSTAMP:20260422T041624
CREATED:20250928T161242Z
LAST-MODIFIED:20250928T161242Z
UID:318-1760729400-1760734800@taekwondo-schoenbrunn.de
SUMMARY:Erwachsenentraining
DESCRIPTION:
URL:https://taekwondo-schoenbrunn.de/event/erwachsenentraining-5/
LOCATION:Schulturnhalle Schönbrunn
END:VEVENT
BEGIN:VEVENT
DTSTART;TZID=UTC:20251018T110000
DTEND;TZID=UTC:20251018T170000
DTSTAMP:20260422T041624
CREATED:20250928T161112Z
LAST-MODIFIED:20250928T161112Z
UID:316-1760785200-1760806800@taekwondo-schoenbrunn.de
SUMMARY:Schlachtschüssel des SV Frankonia Schönbrunn
DESCRIPTION:
URL:https://taekwondo-schoenbrunn.de/event/schlachtschuessel-des-sv-frankonia-schoenbrunn/
LOCATION:Sportplatz in Schönbrunn\, Dammweg 11\, Schönbrunn im Steigerwald\, Bayern\, 96185\, Germany
END:VEVENT
BEGIN:VEVENT
DTSTART;TZID=UTC:20251020T193000
DTEND;TZID=UTC:20251020T210000
DTSTAMP:20260422T041624
CREATED:20250928T161314Z
LAST-MODIFIED:20250928T161314Z
UID:320-1760988600-1760994000@taekwondo-schoenbrunn.de
SUMMARY:Erwachsenentraining
DESCRIPTION:
URL:https://taekwondo-schoenbrunn.de/event/erwachsenentraining-6/
LOCATION:Schulturnhalle Schönbrunn
END:VEVENT
BEGIN:VEVENT
DTSTART;TZID=Europe/Helsinki:20251020T211500
DTEND;TZID=Europe/Helsinki:20251020T223000
DTSTAMP:20260422T041624
CREATED:20251011T164142Z
LAST-MODIFIED:20251011T164142Z
UID:394-1760994900-1760999400@taekwondo-schoenbrunn.de
SUMMARY:TKD Stammtisch (Lips)
DESCRIPTION:Wir wollen uns nach dem Training beim Lips auf ein Bier/Erfrischungsgetränk treffen
URL:https://taekwondo-schoenbrunn.de/event/tkd-stammtisch-lips/
LOCATION:Wernsdörfer
END:VEVENT
BEGIN:VEVENT
DTSTART;TZID=UTC:20251024T193000
DTEND;TZID=UTC:20251024T210000
DTSTAMP:20260422T041624
CREATED:20250928T160233Z
LAST-MODIFIED:20250928T160335Z
UID:309-1761334200-1761339600@taekwondo-schoenbrunn.de
SUMMARY:Erwachsenentraining
DESCRIPTION:
URL:https://taekwondo-schoenbrunn.de/event/erwachsenentraining-2/
LOCATION:Schulturnhalle Schönbrunn
END:VEVENT
BEGIN:VEVENT
DTSTART;TZID=UTC:20251027T193000
DTEND;TZID=UTC:20251027T210000
DTSTAMP:20260422T041624
CREATED:20250928T161414Z
LAST-MODIFIED:20250928T161414Z
UID:322-1761593400-1761598800@taekwondo-schoenbrunn.de
SUMMARY:Erwachsenentraining
DESCRIPTION:
URL:https://taekwondo-schoenbrunn.de/event/erwachsenentraining-7/
LOCATION:Schulturnhalle Schönbrunn
END:VEVENT
BEGIN:VEVENT
DTSTART;TZID=UTC:20251031T193000
DTEND;TZID=UTC:20251031T210000
DTSTAMP:20260422T041624
CREATED:20250928T161453Z
LAST-MODIFIED:20250928T161453Z
UID:324-1761939000-1761944400@taekwondo-schoenbrunn.de
SUMMARY:Erwachsenentraining
DESCRIPTION:
URL:https://taekwondo-schoenbrunn.de/event/erwachsenentraining-8/
END:VEVENT
END:VCALENDAR