BEGIN:VCALENDAR
VERSION:2.0
PRODID:-//Taekwon-Do Sch&ouml;nbrunn - ECPv6.15.20//NONSGML v1.0//EN
CALSCALE:GREGORIAN
METHOD:PUBLISH
X-WR-CALNAME:Taekwon-Do Sch&ouml;nbrunn
X-ORIGINAL-URL:https://taekwondo-schoenbrunn.de
X-WR-CALDESC:Veranstaltungen für Taekwon-Do Sch&ouml;nbrunn
REFRESH-INTERVAL;VALUE=DURATION:PT1H
X-Robots-Tag:noindex
X-PUBLISHED-TTL:PT1H
BEGIN:VTIMEZONE
TZID:UTC
BEGIN:STANDARD
TZOFFSETFROM:+0000
TZOFFSETTO:+0000
TZNAME:UTC
DTSTART:20240101T000000
END:STANDARD
END:VTIMEZONE
BEGIN:VEVENT
DTSTART;TZID=UTC:20251201T193000
DTEND;TZID=UTC:20251201T210000
DTSTAMP:20260422T005215
CREATED:20250928T162311Z
LAST-MODIFIED:20250928T162311Z
UID:344-1764617400-1764622800@taekwondo-schoenbrunn.de
SUMMARY:Erwachsenentraining
DESCRIPTION:
URL:https://taekwondo-schoenbrunn.de/event/erwachsenentraining-17/
LOCATION:Schulturnhalle Schönbrunn
END:VEVENT
BEGIN:VEVENT
DTSTART;TZID=UTC:20251205T193000
DTEND;TZID=UTC:20251205T210000
DTSTAMP:20260422T005215
CREATED:20250928T162441Z
LAST-MODIFIED:20250928T162441Z
UID:348-1764963000-1764968400@taekwondo-schoenbrunn.de
SUMMARY:Erwachsenentraining
DESCRIPTION:
URL:https://taekwondo-schoenbrunn.de/event/erwachsenentraining-19/
LOCATION:Schulturnhalle Schönbrunn
END:VEVENT
BEGIN:VEVENT
DTSTART;TZID=UTC:20251208T193000
DTEND;TZID=UTC:20251208T210000
DTSTAMP:20260422T005215
CREATED:20250928T162533Z
LAST-MODIFIED:20251011T164220Z
UID:350-1765222200-1765227600@taekwondo-schoenbrunn.de
SUMMARY:Kein Training!!!
DESCRIPTION:
URL:https://taekwondo-schoenbrunn.de/event/erwachsenentraining-20/
END:VEVENT
BEGIN:VEVENT
DTSTART;TZID=UTC:20251212T170000
DTEND;TZID=UTC:20251212T213000
DTSTAMP:20260422T005215
CREATED:20250928T163244Z
LAST-MODIFIED:20250928T163244Z
UID:362-1765558800-1765575000@taekwondo-schoenbrunn.de
SUMMARY:Weihnachtsfeier SV Frankonia
DESCRIPTION:
URL:https://taekwondo-schoenbrunn.de/event/weihnachtsfeier-sv-frankonia/
LOCATION:Wernsdörfer
END:VEVENT
BEGIN:VEVENT
DTSTART;TZID=UTC:20251215T193000
DTEND;TZID=UTC:20251215T210000
DTSTAMP:20260422T005215
CREATED:20250928T162759Z
LAST-MODIFIED:20250928T162759Z
UID:354-1765827000-1765832400@taekwondo-schoenbrunn.de
SUMMARY:Erwachsenentraining
DESCRIPTION:
URL:https://taekwondo-schoenbrunn.de/event/erwachsenentraining-22/
LOCATION:Schulturnhalle Schönbrunn
END:VEVENT
BEGIN:VEVENT
DTSTART;TZID=UTC:20251219T193000
DTEND;TZID=UTC:20251219T210000
DTSTAMP:20260422T005215
CREATED:20250928T163007Z
LAST-MODIFIED:20250928T163007Z
UID:358-1766172600-1766178000@taekwondo-schoenbrunn.de
SUMMARY:Erwachsenentraining
DESCRIPTION:
URL:https://taekwondo-schoenbrunn.de/event/erwachsenentraining-24/
LOCATION:Schulturnhalle Schönbrunn
END:VEVENT
BEGIN:VEVENT
DTSTART;TZID=UTC:20251222T000000
DTEND;TZID=UTC:20260106T235959
DTSTAMP:20260422T005215
CREATED:20250928T165249Z
LAST-MODIFIED:20250929T143757Z
UID:367-1766361600-1767743999@taekwondo-schoenbrunn.de
SUMMARY:Weihnachtsferien - Kein Training!!
DESCRIPTION:
URL:https://taekwondo-schoenbrunn.de/event/weihnachtsferien/
END:VEVENT
END:VCALENDAR