BEGIN:VCALENDAR
VERSION:2.0
PRODID:-//Taekwon-Do Sch&ouml;nbrunn - ECPv6.15.20//NONSGML v1.0//EN
CALSCALE:GREGORIAN
METHOD:PUBLISH
X-WR-CALNAME:Taekwon-Do Sch&ouml;nbrunn
X-ORIGINAL-URL:https://taekwondo-schoenbrunn.de
X-WR-CALDESC:Veranstaltungen für Taekwon-Do Sch&ouml;nbrunn
REFRESH-INTERVAL;VALUE=DURATION:PT1H
X-Robots-Tag:noindex
X-PUBLISHED-TTL:PT1H
BEGIN:VTIMEZONE
TZID:UTC
BEGIN:STANDARD
TZOFFSETFROM:+0000
TZOFFSETTO:+0000
TZNAME:UTC
DTSTART:20240101T000000
END:STANDARD
END:VTIMEZONE
BEGIN:VTIMEZONE
TZID:Europe/Helsinki
BEGIN:DAYLIGHT
TZOFFSETFROM:+0200
TZOFFSETTO:+0300
TZNAME:EEST
DTSTART:20250330T010000
END:DAYLIGHT
BEGIN:STANDARD
TZOFFSETFROM:+0300
TZOFFSETTO:+0200
TZNAME:EET
DTSTART:20251026T010000
END:STANDARD
BEGIN:DAYLIGHT
TZOFFSETFROM:+0200
TZOFFSETTO:+0300
TZNAME:EEST
DTSTART:20260329T010000
END:DAYLIGHT
BEGIN:STANDARD
TZOFFSETFROM:+0300
TZOFFSETTO:+0200
TZNAME:EET
DTSTART:20261025T010000
END:STANDARD
BEGIN:DAYLIGHT
TZOFFSETFROM:+0200
TZOFFSETTO:+0300
TZNAME:EEST
DTSTART:20270328T010000
END:DAYLIGHT
BEGIN:STANDARD
TZOFFSETFROM:+0300
TZOFFSETTO:+0200
TZNAME:EET
DTSTART:20271031T010000
END:STANDARD
END:VTIMEZONE
BEGIN:VEVENT
DTSTART;TZID=UTC:20251222T000000
DTEND;TZID=UTC:20260106T235959
DTSTAMP:20260421T214538
CREATED:20250928T165249Z
LAST-MODIFIED:20250929T143757Z
UID:367-1766361600-1767743999@taekwondo-schoenbrunn.de
SUMMARY:Weihnachtsferien - Kein Training!!
DESCRIPTION:
URL:https://taekwondo-schoenbrunn.de/event/weihnachtsferien/
END:VEVENT
BEGIN:VEVENT
DTSTART;TZID=Europe/Helsinki:20260109T193000
DTEND;TZID=Europe/Helsinki:20260109T210000
DTSTAMP:20260421T214538
CREATED:20251105T174937Z
LAST-MODIFIED:20251105T174937Z
UID:407-1767987000-1767992400@taekwondo-schoenbrunn.de
SUMMARY:Erwachsenentraining
DESCRIPTION:
URL:https://taekwondo-schoenbrunn.de/event/erwachsenentraining-10/
LOCATION:Schulturnhalle Schönbrunn
END:VEVENT
BEGIN:VEVENT
DTSTART;TZID=Europe/Helsinki:20260112T193000
DTEND;TZID=Europe/Helsinki:20260112T210000
DTSTAMP:20260421T214538
CREATED:20251105T175029Z
LAST-MODIFIED:20251105T175029Z
UID:409-1768246200-1768251600@taekwondo-schoenbrunn.de
SUMMARY:Erwachsenentraining
DESCRIPTION:
URL:https://taekwondo-schoenbrunn.de/event/erwachsenentraining-18/
LOCATION:Schulturnhalle Schönbrunn
END:VEVENT
BEGIN:VEVENT
DTSTART;TZID=Europe/Helsinki:20260116T193000
DTEND;TZID=Europe/Helsinki:20260116T210000
DTSTAMP:20260421T214538
CREATED:20251105T175108Z
LAST-MODIFIED:20251105T175108Z
UID:411-1768591800-1768597200@taekwondo-schoenbrunn.de
SUMMARY:Erwachsenentraining
DESCRIPTION:
URL:https://taekwondo-schoenbrunn.de/event/erwachsenentraining-21/
LOCATION:Schulturnhalle Schönbrunn
END:VEVENT
BEGIN:VEVENT
DTSTART;TZID=Europe/Helsinki:20260119T193000
DTEND;TZID=Europe/Helsinki:20260119T210000
DTSTAMP:20260421T214538
CREATED:20251105T175141Z
LAST-MODIFIED:20251105T175141Z
UID:413-1768851000-1768856400@taekwondo-schoenbrunn.de
SUMMARY:Erwachsenentraining
DESCRIPTION:
URL:https://taekwondo-schoenbrunn.de/event/erwachsenentraining-23/
LOCATION:Schulturnhalle Schönbrunn
END:VEVENT
BEGIN:VEVENT
DTSTART;TZID=Europe/Helsinki:20260123T000000
DTEND;TZID=Europe/Helsinki:20260123T235959
DTSTAMP:20260421T214538
CREATED:20251105T175240Z
LAST-MODIFIED:20260105T163500Z
UID:415-1769126400-1769212799@taekwondo-schoenbrunn.de
SUMMARY:Kein Training!
DESCRIPTION:
URL:https://taekwondo-schoenbrunn.de/event/erwachsenentraining-25/
LOCATION:Schulturnhalle Schönbrunn
END:VEVENT
BEGIN:VEVENT
DTSTART;TZID=Europe/Helsinki:20260126T193000
DTEND;TZID=Europe/Helsinki:20260126T210000
DTSTAMP:20260421T214538
CREATED:20251105T175316Z
LAST-MODIFIED:20251105T175316Z
UID:417-1769455800-1769461200@taekwondo-schoenbrunn.de
SUMMARY:Erwachsenentraining
DESCRIPTION:
URL:https://taekwondo-schoenbrunn.de/event/erwachsenentraining-26/
LOCATION:Schulturnhalle Schönbrunn
END:VEVENT
BEGIN:VEVENT
DTSTART;TZID=Europe/Helsinki:20260130T193000
DTEND;TZID=Europe/Helsinki:20260130T210000
DTSTAMP:20260421T214538
CREATED:20251105T175349Z
LAST-MODIFIED:20251214T084019Z
UID:419-1769801400-1769806800@taekwondo-schoenbrunn.de
SUMMARY:Erwachsenentraining
DESCRIPTION:
URL:https://taekwondo-schoenbrunn.de/event/erwachsenentraining-27/
LOCATION:Schulturnhalle Schönbrunn
END:VEVENT
END:VCALENDAR