BEGIN:VCALENDAR
VERSION:2.0
PRODID:-//Taekwon-Do Sch&ouml;nbrunn - ECPv6.15.20//NONSGML v1.0//EN
CALSCALE:GREGORIAN
METHOD:PUBLISH
X-ORIGINAL-URL:https://taekwondo-schoenbrunn.de
X-WR-CALDESC:Veranstaltungen für Taekwon-Do Sch&ouml;nbrunn
REFRESH-INTERVAL;VALUE=DURATION:PT1H
X-Robots-Tag:noindex
X-PUBLISHED-TTL:PT1H
BEGIN:VTIMEZONE
TZID:Europe/Helsinki
BEGIN:DAYLIGHT
TZOFFSETFROM:+0200
TZOFFSETTO:+0300
TZNAME:EEST
DTSTART:20250330T010000
END:DAYLIGHT
BEGIN:STANDARD
TZOFFSETFROM:+0300
TZOFFSETTO:+0200
TZNAME:EET
DTSTART:20251026T010000
END:STANDARD
BEGIN:DAYLIGHT
TZOFFSETFROM:+0200
TZOFFSETTO:+0300
TZNAME:EEST
DTSTART:20260329T010000
END:DAYLIGHT
BEGIN:STANDARD
TZOFFSETFROM:+0300
TZOFFSETTO:+0200
TZNAME:EET
DTSTART:20261025T010000
END:STANDARD
BEGIN:DAYLIGHT
TZOFFSETFROM:+0200
TZOFFSETTO:+0300
TZNAME:EEST
DTSTART:20270328T010000
END:DAYLIGHT
BEGIN:STANDARD
TZOFFSETFROM:+0300
TZOFFSETTO:+0200
TZNAME:EET
DTSTART:20271031T010000
END:STANDARD
END:VTIMEZONE
BEGIN:VEVENT
DTSTART;TZID=Europe/Helsinki:20260719T080000
DTEND;TZID=Europe/Helsinki:20260719T170000
DTSTAMP:20260421T163249
CREATED:20260108T194004Z
LAST-MODIFIED:20260128T191841Z
UID:573-1784448000-1784480400@taekwondo-schoenbrunn.de
SUMMARY:Jubiläumsfeier TKD Zeilitzheim 35 Jahre
DESCRIPTION:
URL:https://taekwondo-schoenbrunn.de/event/jubilaeumsfeier-tkd-zeilitzheim-35-jahre/
END:VEVENT
BEGIN:VEVENT
DTSTART;TZID=Europe/Helsinki:20260814T140000
DTEND;TZID=Europe/Helsinki:20260814T170000
DTSTAMP:20260421T163249
CREATED:20260128T192015Z
LAST-MODIFIED:20260128T192031Z
UID:583-1786716000-1786726800@taekwondo-schoenbrunn.de
SUMMARY:Sommerfamilienfest des SV Frankonia Schönbrunn
DESCRIPTION:
URL:https://taekwondo-schoenbrunn.de/event/sommerfamileinfest-des-sv-frankonia-schoenbrunn/
END:VEVENT
BEGIN:VEVENT
DTSTART;TZID=Europe/Helsinki:20260920T080000
DTEND;TZID=Europe/Helsinki:20260920T170000
DTSTAMP:20260421T163249
CREATED:20260108T194227Z
LAST-MODIFIED:20260108T194227Z
UID:577-1789891200-1789923600@taekwondo-schoenbrunn.de
SUMMARY:DAN-Trägerlehrgang
DESCRIPTION:
URL:https://taekwondo-schoenbrunn.de/event/dan-traegerlehrgang/
END:VEVENT
BEGIN:VEVENT
DTSTART;TZID=Europe/Helsinki:20261010T080000
DTEND;TZID=Europe/Helsinki:20261010T170000
DTSTAMP:20260421T163249
CREATED:20260108T194108Z
LAST-MODIFIED:20260108T194108Z
UID:575-1791619200-1791651600@taekwondo-schoenbrunn.de
SUMMARY:Kommersabend in der TG Halle Höchberg  40 Jahre Taekwon-Do
DESCRIPTION:
URL:https://taekwondo-schoenbrunn.de/event/kommersabend-in-der-tg-halle-hoechberg-40-jahre-taekwon-do/
END:VEVENT
END:VCALENDAR